BEGIN:VCALENDAR
VERSION:2.0
PRODID:-//NKC 72 - Neuköllner Kegel Club von 1972 e.V.//NONSGML kigkonsult.
 se iCalcreator 2.16.12//
METHOD:PUBLISH
X-MS-OLK-FORCEINSPECTOROPEN:TRUE
BEGIN:VEVENT
UID:20260422T181721CEST-7457FjXSds@NKC 72 - Neuköllner Kegel Club von 1972 
 e.V.
DTSTAMP:20260422T161721Z
DESCRIPTION:
DTSTART:20110313T100000
DTEND:20110313T133000
ORGANIZER:MAILTO:NKC 72 - Neuköllner Kegel Club von 1972 e.V. <joerg.gloede
 @web.de>
SUMMARY:Buli Auswärts - SG Berlin 07
END:VEVENT
END:VCALENDAR
