BEGIN:VCALENDAR
VERSION:2.0
PRODID:-//NKC 72 - Neuköllner Kegel Club von 1972 e.V.//NONSGML kigkonsult.
 se iCalcreator 2.16.12//
METHOD:PUBLISH
X-MS-OLK-FORCEINSPECTOROPEN:TRUE
BEGIN:VEVENT
UID:20260422T180402CEST-5984E0dCck@NKC 72 - Neuköllner Kegel Club von 1972 
 e.V.
DTSTAMP:20260422T160402Z
DESCRIPTION:
DTSTART:20110306T143000
DTEND:20110306T163000
LOCATION:Anhalter\, Bahn 7-10
ORGANIZER:MAILTO:NKC 72 - Neuköllner Kegel Club von 1972 e.V. <joerg.gloede
 @web.de>
SUMMARY:VBS 1. Klasse 7. Spieltag
END:VEVENT
END:VCALENDAR
