BEGIN:VCALENDAR
VERSION:2.0
PRODID:-//NKC 72 - Neuköllner Kegel Club von 1972 e.V.//NONSGML kigkonsult.
 se iCalcreator 2.16.12//
METHOD:PUBLISH
X-MS-OLK-FORCEINSPECTOROPEN:TRUE
BEGIN:VEVENT
UID:20260422T181222CEST-9795Ao1nvV@NKC 72 - Neuköllner Kegel Club von 1972 
 e.V.
DTSTAMP:20260422T161222Z
DESCRIPTION:
DTSTART:20110303T170000
DTEND:20110303T233000
LOCATION:Anhalter\, Bahn 27-30
ORGANIZER:MAILTO:NKC 72 - Neuköllner Kegel Club von 1972 e.V. <joerg.gloede
 @web.de>
SUMMARY:3-Bahnen-Clubmeisterschaft (Bohle) + Training
END:VEVENT
END:VCALENDAR
