BEGIN:VCALENDAR
VERSION:2.0
PRODID:-//NKC 72 - Neuköllner Kegel Club von 1972 e.V.//NONSGML kigkonsult.
 se iCalcreator 2.16.12//
METHOD:PUBLISH
X-MS-OLK-FORCEINSPECTOROPEN:TRUE
BEGIN:VEVENT
UID:20260424T131923CEST-0386gl5W8t@NKC 72 - Neuköllner Kegel Club von 1972 
 e.V.
DTSTAMP:20260424T111923Z
DESCRIPTION:
DTSTART:20110317T170000
DTEND:20110317T230000
LOCATION:Anhalter\, Bahn 23-26
ORGANIZER:MAILTO:NKC 72 - Neuköllner Kegel Club von 1972 e.V. <joerg.gloede
 @web.de>
SUMMARY:5. Lauf Clubmeisterschaft + Training
END:VEVENT
END:VCALENDAR
