BEGIN:VCALENDAR
VERSION:2.0
PRODID:-//NKC 72 - Neuköllner Kegel Club von 1972 e.V.//NONSGML kigkonsult.
 se iCalcreator 2.16.12//
METHOD:PUBLISH
X-MS-OLK-FORCEINSPECTOROPEN:TRUE
BEGIN:VEVENT
UID:20260422T224421CEST-9065mMWOfC@NKC 72 - Neuköllner Kegel Club von 1972 
 e.V.
DTSTAMP:20260422T204421Z
DESCRIPTION:
DTSTART:20110324T170000
DTEND:20110324T230000
LOCATION:Anhalter\, Bahn 3-6
ORGANIZER:MAILTO:NKC 72 - Neuköllner Kegel Club von 1972 e.V. <joerg.gloede
 @web.de>
SUMMARY:Training
END:VEVENT
END:VCALENDAR
