BEGIN:VCALENDAR
VERSION:2.0
PRODID:-//NKC 72 - Neuköllner Kegel Club von 1972 e.V.//NONSGML kigkonsult.
 se iCalcreator 2.16.12//
METHOD:PUBLISH
X-MS-OLK-FORCEINSPECTOROPEN:TRUE
BEGIN:VEVENT
UID:20260422T105432CEST-6408ETWDaX@NKC 72 - Neuköllner Kegel Club von 1972 
 e.V.
DTSTAMP:20260422T085432Z
DESCRIPTION:Bahn 1+2 18.00 - 22.00\nBahn 3+4 19.00 - 22.00
DTSTART:20110707T180000
DTEND:20110707T220000
LOCATION:Preussenpark
ORGANIZER:MAILTO:NKC 72 - Neuköllner Kegel Club von 1972 e.V. <joerg.gloede
 @web.de>
SUMMARY:Training
END:VEVENT
END:VCALENDAR
