BEGIN:VCALENDAR
VERSION:2.0
PRODID:-//NKC 72 - Neuköllner Kegel Club von 1972 e.V.//NONSGML kigkonsult.
 se iCalcreator 2.16.12//
METHOD:PUBLISH
X-MS-OLK-FORCEINSPECTOROPEN:TRUE
BEGIN:VEVENT
UID:20260422T104726CEST-7524r9TGIj@NKC 72 - Neuköllner Kegel Club von 1972 
 e.V.
DTSTAMP:20260422T084726Z
DESCRIPTION:Bahn 5 - 8
DTSTART:20110714T180000
DTEND:20110714T220000
LOCATION:Preussenpark
ORGANIZER:MAILTO:NKC 72 - Neuköllner Kegel Club von 1972 e.V. <joerg.gloede
 @web.de>
SUMMARY:Training
END:VEVENT
END:VCALENDAR
