BEGIN:VCALENDAR
VERSION:2.0
PRODID:-//NKC 72 - Neuköllner Kegel Club von 1972 e.V.//NONSGML kigkonsult.
 se iCalcreator 2.16.12//
METHOD:PUBLISH
X-MS-OLK-FORCEINSPECTOROPEN:TRUE
BEGIN:VEVENT
UID:20260422T094316CEST-1749IO26NM@NKC 72 - Neuköllner Kegel Club von 1972 
 e.V.
DTSTAMP:20260422T074316Z
DESCRIPTION:Bahn 5-8 17.00 - 22.00\n
DTSTART:20110825T170000
DTEND:20110825T220000
LOCATION:Preussenpark
ORGANIZER:MAILTO:NKC 72 - Neuköllner Kegel Club von 1972 e.V. <joerg.gloede
 @web.de>
SUMMARY:Training
END:VEVENT
END:VCALENDAR
