BEGIN:VCALENDAR
VERSION:2.0
PRODID:-//NKC 72 - Neuköllner Kegel Club von 1972 e.V.//NONSGML kigkonsult.
 se iCalcreator 2.16.12//
METHOD:PUBLISH
X-MS-OLK-FORCEINSPECTOROPEN:TRUE
BEGIN:VEVENT
UID:20260422T074157CEST-4209gNUa71@NKC 72 - Neuköllner Kegel Club von 1972 
 e.V.
DTSTAMP:20260422T054157Z
DESCRIPTION:Bahn 1-4 18.00 - 20.00\nBahn 5-8 20.00 - 22.00\n
DTSTART:20110922T180000
DTEND:20110922T220000
LOCATION:Preussenpark
ORGANIZER:MAILTO:NKC 72 - Neuköllner Kegel Club von 1972 e.V. <joerg.gloede
 @web.de>
SUMMARY:Training
END:VEVENT
END:VCALENDAR
