BEGIN:VCALENDAR
VERSION:2.0
PRODID:-//NKC 72 - Neuköllner Kegel Club von 1972 e.V.//NONSGML kigkonsult.
 se iCalcreator 2.16.12//
METHOD:PUBLISH
X-MS-OLK-FORCEINSPECTOROPEN:TRUE
BEGIN:VEVENT
UID:20260422T074554CEST-9510Vb5ojA@NKC 72 - Neuköllner Kegel Club von 1972 
 e.V.
DTSTAMP:20260422T054554Z
DESCRIPTION:Bahn 3-6 18.00 - 22.00
DTSTART:20110929T180000
DTEND:20110929T220000
LOCATION:Preussenpark
ORGANIZER:MAILTO:NKC 72 - Neuköllner Kegel Club von 1972 e.V. <joerg.gloede
 @web.de>
SUMMARY:1. Lauf Clubmeisterschaft + Training
END:VEVENT
END:VCALENDAR
