BEGIN:VCALENDAR
VERSION:2.0
PRODID:-//NKC 72 - Neuköllner Kegel Club von 1972 e.V.//NONSGML kigkonsult.
 se iCalcreator 2.16.12//
METHOD:PUBLISH
X-MS-OLK-FORCEINSPECTOROPEN:TRUE
BEGIN:VEVENT
UID:20260422T061426CEST-9903VN6N3l@NKC 72 - Neuköllner Kegel Club von 1972 
 e.V.
DTSTAMP:20260422T041426Z
DESCRIPTION:Bahn 3-6\n\nKO-Pokal 3. Runden Herren (letzter Termin)\n
DTSTART:20111027T170000
DTEND:20111027T220000
LOCATION:Preussenpark
ORGANIZER:MAILTO:NKC 72 - Neuköllner Kegel Club von 1972 e.V. <joerg.gloede
 @web.de>
SUMMARY:Training
END:VEVENT
END:VCALENDAR
