BEGIN:VCALENDAR
VERSION:2.0
PRODID:-//NKC 72 - Neuköllner Kegel Club von 1972 e.V.//NONSGML kigkonsult.
 se iCalcreator 2.16.12//
METHOD:PUBLISH
X-MS-OLK-FORCEINSPECTOROPEN:TRUE
BEGIN:VEVENT
UID:20260422T042235CEST-8621CkhkDG@NKC 72 - Neuköllner Kegel Club von 1972 
 e.V.
DTSTAMP:20260422T022235Z
DESCRIPTION:Bahn 1-4
DTSTART:20111103T170000
DTEND:20111103T220000
LOCATION:Preussenpark
ORGANIZER:MAILTO:NKC 72 - Neuköllner Kegel Club von 1972 e.V. <joerg.gloede
 @web.de>
SUMMARY:Training
END:VEVENT
END:VCALENDAR
