BEGIN:VCALENDAR
VERSION:2.0
PRODID:-//NKC 72 - Neuköllner Kegel Club von 1972 e.V.//NONSGML kigkonsult.
 se iCalcreator 2.16.12//
METHOD:PUBLISH
X-MS-OLK-FORCEINSPECTOROPEN:TRUE
BEGIN:VEVENT
UID:20260422T042011CEST-8905ctLtZV@NKC 72 - Neuköllner Kegel Club von 1972 
 e.V.
DTSTAMP:20260422T022011Z
DESCRIPTION:Bahn 5-8\n\nKO-Pokal Halbfinale Herren + Damen\n
DTSTART:20111117T170000
DTEND:20111117T220000
LOCATION:Preussenpark
ORGANIZER:MAILTO:NKC 72 - Neuköllner Kegel Club von 1972 e.V. <joerg.gloede
 @web.de>
SUMMARY:KO-Pokal Halbfinale + Training
END:VEVENT
END:VCALENDAR
