BEGIN:VCALENDAR
VERSION:2.0
PRODID:-//NKC 72 - Neuköllner Kegel Club von 1972 e.V.//NONSGML kigkonsult.
 se iCalcreator 2.16.12//
METHOD:PUBLISH
X-MS-OLK-FORCEINSPECTOROPEN:TRUE
BEGIN:VEVENT
UID:20260422T042041CEST-2806r1x6ZO@NKC 72 - Neuköllner Kegel Club von 1972 
 e.V.
DTSTAMP:20260422T022041Z
DESCRIPTION:Bahn 3+4 19.00 - 22.00\nBahn 1-4  17.00 - 22.00
DTSTART:20111124T170000
DTEND:20111124T220000
LOCATION:Preussenpark
ORGANIZER:MAILTO:NKC 72 - Neuköllner Kegel Club von 1972 e.V. <joerg.gloede
 @web.de>
SUMMARY:Training
END:VEVENT
END:VCALENDAR
