BEGIN:VCALENDAR
VERSION:2.0
PRODID:-//NKC 72 - Neuköllner Kegel Club von 1972 e.V.//NONSGML kigkonsult.
 se iCalcreator 2.16.12//
METHOD:PUBLISH
X-MS-OLK-FORCEINSPECTOROPEN:TRUE
BEGIN:VEVENT
UID:20260422T042011CEST-8695FGWcoR@NKC 72 - Neuköllner Kegel Club von 1972 
 e.V.
DTSTAMP:20260422T022011Z
DESCRIPTION:
DTSTART:20111113T100000
DTEND:20111113T123000
ORGANIZER:MAILTO:NKC 72 - Neuköllner Kegel Club von 1972 e.V. <joerg.gloede
 @web.de>
SUMMARY:Buli Heim - SpG VKC/Germania/FE 27 Spandau 
END:VEVENT
END:VCALENDAR
