BEGIN:VCALENDAR
VERSION:2.0
PRODID:-//NKC 72 - Neuköllner Kegel Club von 1972 e.V.//NONSGML kigkonsult.
 se iCalcreator 2.16.12//
METHOD:PUBLISH
X-MS-OLK-FORCEINSPECTOROPEN:TRUE
BEGIN:VEVENT
UID:20260422T061309CEST-05235BjZZK@NKC 72 - Neuköllner Kegel Club von 1972 
 e.V.
DTSTAMP:20260422T041309Z
DESCRIPTION:
DTSTART:20111023T113000
DTEND:20111023T143000
LOCATION:Völkerfreundschaft 1 - 4
ORGANIZER:MAILTO:NKC 72 - Neuköllner Kegel Club von 1972 e.V. <joerg.gloede
 @web.de>
SUMMARY:BSKV Oberliga 3.Spieltag
END:VEVENT
END:VCALENDAR
