BEGIN:VCALENDAR
VERSION:2.0
PRODID:-//NKC 72 - Neuköllner Kegel Club von 1972 e.V.//NONSGML kigkonsult.
 se iCalcreator 2.16.12//
METHOD:PUBLISH
X-MS-OLK-FORCEINSPECTOROPEN:TRUE
BEGIN:VEVENT
UID:20260421T233510CEST-9847O8EjVG@NKC 72 - Neuköllner Kegel Club von 1972 
 e.V.
DTSTAMP:20260421T213510Z
DESCRIPTION:
DTSTART:20120225T130000
DTEND:20120225T153000
LOCATION:Schwerin
ORGANIZER:MAILTO:NKC 72 - Neuköllner Kegel Club von 1972 e.V. <joerg.gloede
 @web.de>
SUMMARY:Buli Auswärts - Schwerin
END:VEVENT
END:VCALENDAR
