BEGIN:VCALENDAR
VERSION:2.0
PRODID:-//NKC 72 - Neuköllner Kegel Club von 1972 e.V.//NONSGML kigkonsult.
 se iCalcreator 2.16.12//
METHOD:PUBLISH
X-MS-OLK-FORCEINSPECTOROPEN:TRUE
BEGIN:VEVENT
UID:20260422T011405CEST-8658C6V7pb@NKC 72 - Neuköllner Kegel Club von 1972 
 e.V.
DTSTAMP:20260421T231405Z
DESCRIPTION:
DTSTART:20120122T090000
DTEND:20120122T153000
LOCATION:Hämmerling
ORGANIZER:MAILTO:NKC 72 - Neuköllner Kegel Club von 1972 e.V. <joerg.gloede
 @web.de>
SUMMARY:Landesliga 8. Spieltag
END:VEVENT
END:VCALENDAR
