BEGIN:VCALENDAR
VERSION:2.0
PRODID:-//NKC 72 - Neuköllner Kegel Club von 1972 e.V.//NONSGML kigkonsult.
 se iCalcreator 2.16.12//
METHOD:PUBLISH
X-MS-OLK-FORCEINSPECTOROPEN:TRUE
BEGIN:VEVENT
UID:20260421T221310CEST-8809xuWf6v@NKC 72 - Neuköllner Kegel Club von 1972 
 e.V.
DTSTAMP:20260421T201310Z
DESCRIPTION:
DTSTART:20120304T090000
DTEND:20120304T153000
LOCATION:Lenther Steig
ORGANIZER:MAILTO:NKC 72 - Neuköllner Kegel Club von 1972 e.V. <joerg.gloede
 @web.de>
SUMMARY:Landesliga 11. Spieltag
END:VEVENT
END:VCALENDAR
