BEGIN:VCALENDAR
VERSION:2.0
PRODID:-//NKC 72 - Neuköllner Kegel Club von 1972 e.V.//NONSGML kigkonsult.
 se iCalcreator 2.16.12//
METHOD:PUBLISH
X-MS-OLK-FORCEINSPECTOROPEN:TRUE
BEGIN:VEVENT
UID:20260421T233638CEST-86599D9Ci1@NKC 72 - Neuköllner Kegel Club von 1972 
 e.V.
DTSTAMP:20260421T213638Z
DESCRIPTION:
DTSTART:20120205T140000
DTEND:20120205T160000
LOCATION:Freizeitforum Marzahn
ORGANIZER:MAILTO:NKC 72 - Neuköllner Kegel Club von 1972 e.V. <joerg.gloede
 @web.de>
SUMMARY:BSKV Oberliga 6.Spieltag
END:VEVENT
END:VCALENDAR
