BEGIN:VCALENDAR
VERSION:2.0
PRODID:-//NKC 72 - Neuköllner Kegel Club von 1972 e.V.//NONSGML kigkonsult.
 se iCalcreator 2.16.12//
METHOD:PUBLISH
X-MS-OLK-FORCEINSPECTOROPEN:TRUE
BEGIN:VEVENT
UID:20260422T042235CEST-8496dDrnG2@NKC 72 - Neuköllner Kegel Club von 1972 
 e.V.
DTSTAMP:20260422T022235Z
DESCRIPTION:
DTSTART:20111113T120000
DTEND:20111113T143000
LOCATION:Freizeitforum Marzahn
ORGANIZER:MAILTO:NKC 72 - Neuköllner Kegel Club von 1972 e.V. <joerg.gloede
 @web.de>
SUMMARY:BSKV Damen Liga 3. Spieltag
END:VEVENT
END:VCALENDAR
