BEGIN:VCALENDAR
VERSION:2.0
PRODID:-//NKC 72 - Neuköllner Kegel Club von 1972 e.V.//NONSGML kigkonsult.
 se iCalcreator 2.16.12//
METHOD:PUBLISH
X-MS-OLK-FORCEINSPECTOROPEN:TRUE
BEGIN:VEVENT
UID:20260422T011227CEST-79961RFUV6@NKC 72 - Neuköllner Kegel Club von 1972 
 e.V.
DTSTAMP:20260421T231227Z
DESCRIPTION:Bahn 1-4
DTSTART:20120119T170000
DTEND:20120119T220000
LOCATION:Preussenpark
ORGANIZER:MAILTO:NKC 72 - Neuköllner Kegel Club von 1972 e.V. <joerg.gloede
 @web.de>
SUMMARY:Traning
END:VEVENT
END:VCALENDAR
